BEGIN:VCALENDAR
VERSION:2.0
PRODID:-//jEvents 2.0 for Joomla//EN
CALSCALE:GREGORIAN
METHOD:PUBLISH
BEGIN:VEVENT
UID:28hqug8ts333vcjmvmr45s2c4m@google.com
CATEGORIES:Karneval
CREATED:20190508T151313
SUMMARY:Sommerbiwak HDK beim Stadtfest Duisburg
LOCATION:Duisburg\, Deutschland
DESCRIPTION:
DTSTAMP:20260419T173909
DTSTART;VALUE=DATE:20190718
DTEND;VALUE=DATE:20190719
SEQUENCE:0
TRANSP:OPAQUE
END:VEVENT
END:VCALENDAR